Package: epigraHMM Version: 1.15.0 Command: /Library/Frameworks/R.framework/Resources/bin/R CMD check --install=check:epigraHMM.install-out.txt --library=/Library/Frameworks/R.framework/Resources/library --no-vignettes --timings epigraHMM_1.15.0.tar.gz StartedAt: 2025-02-09 20:32:41 -0500 (Sun, 09 Feb 2025) EndedAt: 2025-02-09 20:41:11 -0500 (Sun, 09 Feb 2025) EllapsedTime: 510.3 seconds RetCode: 0 Status: WARNINGS CheckDir: epigraHMM.Rcheck Warnings: 1