Package: epigraHMM Version: 1.15.0 Command: /home/biocbuild/bbs-3.21-bioc/R/bin/R CMD build --keep-empty-dirs --no-resave-data epigraHMM StartedAt: 2025-02-04 17:06:58 -0500 (Tue, 04 Feb 2025) EndedAt: 2025-02-04 17:15:44 -0500 (Tue, 04 Feb 2025) EllapsedTime: 526.0 seconds RetCode: 0 Status: OK PackageFile: epigraHMM_1.15.0.tar.gz PackageFileSize: 725.6 KiB