Package: epigraHMM Version: 1.15.0 Command: /home/biocbuild/bbs-3.21-bioc/R/bin/R CMD check --install=check:epigraHMM.install-out.txt --library=/home/biocbuild/bbs-3.21-bioc/R/site-library --timings epigraHMM_1.15.0.tar.gz StartedAt: 2025-02-04 22:03:42 -0500 (Tue, 04 Feb 2025) EndedAt: 2025-02-04 22:18:03 -0500 (Tue, 04 Feb 2025) EllapsedTime: 861.2 seconds RetCode: 0 Status: WARNINGS CheckDir: epigraHMM.Rcheck Warnings: 1