Package: epigraHMM Version: 1.15.0 Command: /home/biocbuild/bbs-3.21-bioc/R/bin/R CMD INSTALL epigraHMM StartedAt: 2025-02-04 15:29:13 -0500 (Tue, 04 Feb 2025) EndedAt: 2025-02-04 15:31:16 -0500 (Tue, 04 Feb 2025) EllapsedTime: 122.9 seconds RetCode: 0 Status: OK