Package: epigraHMM Version: 1.15.0 Command: chmod a+r epigraHMM -R && E:\biocbuild\bbs-3.21-bioc\R\bin\R.exe CMD build --keep-empty-dirs --no-resave-data epigraHMM StartedAt: 2025-02-04 18:36:04 -0500 (Tue, 04 Feb 2025) EndedAt: 2025-02-04 18:49:47 -0500 (Tue, 04 Feb 2025) EllapsedTime: 823.0 seconds RetCode: 0 Status: OK PackageFile: epigraHMM_1.15.0.tar.gz PackageFileSize: 493.2 KiB