Package: epimutacions Version: 1.11.0 Command: rm -rf epimutacions.buildbin-libdir && mkdir epimutacions.buildbin-libdir && /Users/biocbuild/BBS/utils/build-universal.sh epimutacions_1.11.0.tar.gz /Library/Frameworks/R.framework/Resources/bin/R epimutacions.buildbin-libdir StartedAt: 2025-02-04 22:15:27 -0500 (Tue, 04 Feb 2025) EndedAt: 2025-02-04 22:15:49 -0500 (Tue, 04 Feb 2025) EllapsedTime: 22.5 seconds RetCode: 0 Status: OK PackageFile: epimutacions_1.11.0.tgz PackageFileSize: 1.657 MiB