Package: epimutacions Version: 1.11.0 Command: /Library/Frameworks/R.framework/Resources/bin/R CMD INSTALL epimutacions StartedAt: 2025-02-04 15:27:29 -0500 (Tue, 04 Feb 2025) EndedAt: 2025-02-04 15:27:48 -0500 (Tue, 04 Feb 2025) EllapsedTime: 19.8 seconds RetCode: 0 Status: OK