Package: epimutacions Version: 1.11.0 Command: /home/biocbuild/R/R/bin/R CMD build --keep-empty-dirs --no-resave-data epimutacions StartedAt: 2025-01-28 22:43:59 -0000 (Tue, 28 Jan 2025) EndedAt: 2025-01-28 22:48:42 -0000 (Tue, 28 Jan 2025) EllapsedTime: 283.1 seconds RetCode: 0 Status: OK PackageFile: epimutacions_1.11.0.tar.gz PackageFileSize: 1.709 MiB