Package: epimutacions Version: 1.11.0 Command: /home/biocbuild/R/R/bin/R CMD check --install=check:epimutacions.install-out.txt --library=/home/biocbuild/R/R/site-library --no-vignettes --timings epimutacions_1.11.0.tar.gz StartedAt: 2025-01-28 10:20:35 -0000 (Tue, 28 Jan 2025) EndedAt: 2025-01-28 10:29:55 -0000 (Tue, 28 Jan 2025) EllapsedTime: 559.6 seconds RetCode: 0 Status: WARNINGS CheckDir: epimutacions.Rcheck Warnings: 6