Package: epimutacions Version: 1.11.0 Command: /home/biocbuild/R/R/bin/R CMD INSTALL epimutacions StartedAt: 2025-01-29 20:34:51 -0000 (Wed, 29 Jan 2025) EndedAt: 2025-01-29 20:35:58 -0000 (Wed, 29 Jan 2025) EllapsedTime: 67.1 seconds RetCode: 0 Status: OK