Package: epimutacions Version: 1.11.0 Command: /Library/Frameworks/R.framework/Resources/bin/R CMD check --install=check:epimutacions.install-out.txt --library=/Library/Frameworks/R.framework/Resources/library --no-vignettes --timings epimutacions_1.11.0.tar.gz StartedAt: 2025-02-05 20:19:59 -0500 (Wed, 05 Feb 2025) EndedAt: 2025-02-05 20:27:33 -0500 (Wed, 05 Feb 2025) EllapsedTime: 453.6 seconds RetCode: 0 Status: OK CheckDir: epimutacions.Rcheck Warnings: 0