Package: epimutacions Version: 1.11.0 Command: /home/biocbuild/bbs-3.21-bioc/R/bin/R CMD check --install=check:epimutacions.install-out.txt --library=/home/biocbuild/bbs-3.21-bioc/R/site-library --timings epimutacions_1.11.0.tar.gz StartedAt: 2025-02-04 22:03:46 -0500 (Tue, 04 Feb 2025) EndedAt: 2025-02-04 22:13:22 -0500 (Tue, 04 Feb 2025) EllapsedTime: 575.7 seconds RetCode: 0 Status: OK CheckDir: epimutacions.Rcheck Warnings: 0