Package: epimutacions Version: 1.11.0 Command: chmod a+r epimutacions -R && E:\biocbuild\bbs-3.21-bioc\R\bin\R.exe CMD build --keep-empty-dirs --no-resave-data epimutacions StartedAt: 2025-02-09 18:34:25 -0500 (Sun, 09 Feb 2025) EndedAt: 2025-02-09 18:39:18 -0500 (Sun, 09 Feb 2025) EllapsedTime: 292.3 seconds RetCode: 0 Status: OK PackageFile: epimutacions_1.11.0.tar.gz PackageFileSize: 1.622 MiB