Package: epiregulon Version: 1.3.5 Command: /Library/Frameworks/R.framework/Resources/bin/R CMD check --install=check:epiregulon.install-out.txt --library=/Library/Frameworks/R.framework/Resources/library --no-vignettes --timings epiregulon_1.3.5.tar.gz StartedAt: 2025-02-04 19:09:29 -0500 (Tue, 04 Feb 2025) EndedAt: 2025-02-04 19:12:22 -0500 (Tue, 04 Feb 2025) EllapsedTime: 173.0 seconds RetCode: 0 Status: OK CheckDir: epiregulon.Rcheck Warnings: 0