Package: epiregulon Version: 1.3.5 Command: /home/biocbuild/R/R/bin/R CMD INSTALL epiregulon StartedAt: 2025-01-29 20:30:06 -0000 (Wed, 29 Jan 2025) EndedAt: 2025-01-29 20:31:06 -0000 (Wed, 29 Jan 2025) EllapsedTime: 60.4 seconds RetCode: 0 Status: OK