Package: epiregulon Version: 1.3.5 Command: /Library/Frameworks/R.framework/Resources/bin/R CMD build --keep-empty-dirs --no-resave-data epiregulon StartedAt: 2025-02-09 16:40:53 -0500 (Sun, 09 Feb 2025) EndedAt: 2025-02-09 16:44:36 -0500 (Sun, 09 Feb 2025) EllapsedTime: 222.7 seconds RetCode: 0 Status: OK PackageFile: epiregulon_1.3.5.tar.gz PackageFileSize: 1.263 MiB