Package: epiregulon Version: 1.3.5 Command: /home/biocbuild/bbs-3.21-bioc/R/bin/R CMD check --install=check:epiregulon.install-out.txt --library=/home/biocbuild/bbs-3.21-bioc/R/site-library --timings epiregulon_1.3.5.tar.gz StartedAt: 2025-02-04 22:04:41 -0500 (Tue, 04 Feb 2025) EndedAt: 2025-02-04 22:16:11 -0500 (Tue, 04 Feb 2025) EllapsedTime: 689.9 seconds RetCode: 0 Status: OK CheckDir: epiregulon.Rcheck Warnings: 0