Package: epiregulon Version: 1.3.5 Command: /home/biocbuild/bbs-3.21-bioc/R/bin/R CMD INSTALL epiregulon StartedAt: 2025-02-04 15:52:01 -0500 (Tue, 04 Feb 2025) EndedAt: 2025-02-04 15:52:43 -0500 (Tue, 04 Feb 2025) EllapsedTime: 42.1 seconds RetCode: 0 Status: OK