Package: epiregulon Version: 1.3.5 Command: chmod a+r epiregulon -R && E:\biocbuild\bbs-3.21-bioc\R\bin\R.exe CMD build --keep-empty-dirs --no-resave-data epiregulon StartedAt: 2025-02-04 18:36:52 -0500 (Tue, 04 Feb 2025) EndedAt: 2025-02-04 18:41:33 -0500 (Tue, 04 Feb 2025) EllapsedTime: 281.1 seconds RetCode: 0 Status: OK PackageFile: epiregulon_1.3.5.tar.gz PackageFileSize: 715.6 KiB