Package: epiregulon Version: 1.3.5 Command: E:\biocbuild\bbs-3.21-bioc\R\bin\R.exe CMD check --no-multiarch --install=check:epiregulon.install-out.txt --library=E:\biocbuild\bbs-3.21-bioc\R\library --no-vignettes --timings epiregulon_1.3.5.tar.gz StartedAt: 2025-02-05 01:21:33 -0500 (Wed, 05 Feb 2025) EndedAt: 2025-02-05 01:32:55 -0500 (Wed, 05 Feb 2025) EllapsedTime: 682.0 seconds RetCode: 0 Status: OK CheckDir: epiregulon.Rcheck Warnings: 0