Package: epiregulon Version: 1.3.5 Command: E:\biocbuild\bbs-3.21-bioc\R\bin\R.exe CMD INSTALL epiregulon StartedAt: 2025-02-04 16:46:34 -0500 (Tue, 04 Feb 2025) EndedAt: 2025-02-04 16:47:45 -0500 (Tue, 04 Feb 2025) EllapsedTime: 70.2 seconds RetCode: 0 Status: OK