Package: epistack Version: 1.13.0 Command: rm -rf epistack.buildbin-libdir && mkdir epistack.buildbin-libdir && /Users/biocbuild/BBS/utils/build-universal.sh epistack_1.13.0.tar.gz /Library/Frameworks/R.framework/Resources/bin/R epistack.buildbin-libdir StartedAt: 2025-02-04 22:15:34 -0500 (Tue, 04 Feb 2025) EndedAt: 2025-02-04 22:15:44 -0500 (Tue, 04 Feb 2025) EllapsedTime: 10.2 seconds RetCode: 0 Status: OK PackageFile: epistack_1.13.0.tgz PackageFileSize: 2.17 MiB