Package: epistack Version: 1.13.0 Command: /home/biocbuild/R/R/bin/R CMD build --keep-empty-dirs --no-resave-data epistack StartedAt: 2025-01-28 22:44:47 -0000 (Tue, 28 Jan 2025) EndedAt: 2025-01-28 22:47:53 -0000 (Tue, 28 Jan 2025) EllapsedTime: 186.0 seconds RetCode: 0 Status: OK PackageFile: epistack_1.13.0.tar.gz PackageFileSize: 3.132 MiB