Package: epistack Version: 1.13.0 Command: /home/biocbuild/R/R/bin/R CMD check --install=check:epistack.install-out.txt --library=/home/biocbuild/R/R/site-library --no-vignettes --timings epistack_1.13.0.tar.gz StartedAt: 2025-01-28 10:22:59 -0000 (Tue, 28 Jan 2025) EndedAt: 2025-01-28 10:26:59 -0000 (Tue, 28 Jan 2025) EllapsedTime: 240.4 seconds RetCode: 0 Status: OK CheckDir: epistack.Rcheck Warnings: 0