Package: epistack Version: 1.13.0 Command: /home/biocbuild/R/R/bin/R CMD INSTALL epistack StartedAt: 2025-01-29 19:39:40 -0000 (Wed, 29 Jan 2025) EndedAt: 2025-01-29 19:40:07 -0000 (Wed, 29 Jan 2025) EllapsedTime: 27.3 seconds RetCode: 0 Status: OK