Package: epistack Version: 1.13.0 Command: /Library/Frameworks/R.framework/Resources/bin/R CMD INSTALL epistack StartedAt: 2025-02-05 15:09:43 -0500 (Wed, 05 Feb 2025) EndedAt: 2025-02-05 15:10:10 -0500 (Wed, 05 Feb 2025) EllapsedTime: 26.8 seconds RetCode: 0 Status: OK