Package: epistack Version: 1.13.0 Command: /home/biocbuild/bbs-3.21-bioc/R/bin/R CMD check --install=check:epistack.install-out.txt --library=/home/biocbuild/bbs-3.21-bioc/R/site-library --timings epistack_1.13.0.tar.gz StartedAt: 2025-02-05 22:08:00 -0500 (Wed, 05 Feb 2025) EndedAt: 2025-02-05 22:12:42 -0500 (Wed, 05 Feb 2025) EllapsedTime: 282.2 seconds RetCode: 0 Status: OK CheckDir: epistack.Rcheck Warnings: 0