Package: epistack Version: 1.13.0 Command: rm -rf epistack.buildbin-libdir && mkdir epistack.buildbin-libdir && E:\biocbuild\bbs-3.21-bioc\R\bin\R.exe CMD INSTALL --build --library=epistack.buildbin-libdir epistack_1.13.0.tar.gz StartedAt: 2025-02-05 07:54:24 -0500 (Wed, 05 Feb 2025) EndedAt: 2025-02-05 07:54:57 -0500 (Wed, 05 Feb 2025) EllapsedTime: 33.0 seconds RetCode: 0 Status: OK PackageFile: epistack_1.13.0.zip PackageFileSize: 1.415 MiB