Package: epistack Version: 1.13.0 Command: chmod a+r epistack -R && E:\biocbuild\bbs-3.21-bioc\R\bin\R.exe CMD build --keep-empty-dirs --no-resave-data epistack StartedAt: 2025-02-04 18:36:59 -0500 (Tue, 04 Feb 2025) EndedAt: 2025-02-04 18:38:56 -0500 (Tue, 04 Feb 2025) EllapsedTime: 117.0 seconds RetCode: 0 Status: OK PackageFile: epistack_1.13.0.tar.gz PackageFileSize: 3.188 MiB