Package: epistack Version: 1.13.0 Command: E:\biocbuild\bbs-3.21-bioc\R\bin\R.exe CMD check --no-multiarch --install=check:epistack.install-out.txt --library=E:\biocbuild\bbs-3.21-bioc\R\library --no-vignettes --timings epistack_1.13.0.tar.gz StartedAt: 2025-02-06 01:25:08 -0500 (Thu, 06 Feb 2025) EndedAt: 2025-02-06 01:28:23 -0500 (Thu, 06 Feb 2025) EllapsedTime: 194.5 seconds RetCode: 0 Status: OK CheckDir: epistack.Rcheck Warnings: 0