Package: epistack Version: 1.13.0 Command: E:\biocbuild\bbs-3.21-bioc\R\bin\R.exe CMD INSTALL epistack StartedAt: 2025-02-04 15:43:25 -0500 (Tue, 04 Feb 2025) EndedAt: 2025-02-04 15:43:56 -0500 (Tue, 04 Feb 2025) EllapsedTime: 31.0 seconds RetCode: 0 Status: OK