Package: epistasisGA Version: 1.9.0 Command: /home/biocbuild/bbs-3.21-bioc/R/bin/R CMD build --keep-empty-dirs --no-resave-data epistasisGA StartedAt: 2025-02-09 17:09:49 -0500 (Sun, 09 Feb 2025) EndedAt: 2025-02-09 17:13:00 -0500 (Sun, 09 Feb 2025) EllapsedTime: 190.5 seconds RetCode: 0 Status: OK PackageFile: epistasisGA_1.9.0.tar.gz PackageFileSize: 2.031 MiB