Package: epistasisGA Version: 1.9.0 Command: rm -rf epistasisGA.buildbin-libdir && mkdir epistasisGA.buildbin-libdir && E:\biocbuild\bbs-3.21-bioc\R\bin\R.exe CMD INSTALL --build --library=epistasisGA.buildbin-libdir epistasisGA_1.9.0.tar.gz StartedAt: 2025-02-10 07:42:42 -0500 (Mon, 10 Feb 2025) EndedAt: 2025-02-10 07:45:12 -0500 (Mon, 10 Feb 2025) EllapsedTime: 149.8 seconds RetCode: 0 Status: OK PackageFile: epistasisGA_1.9.0.zip PackageFileSize: 1.957 MiB