Package: epivizr Version: 2.37.0 Command: /Library/Frameworks/R.framework/Resources/bin/R CMD build --keep-empty-dirs --no-resave-data epivizr StartedAt: 2025-02-04 16:17:10 -0500 (Tue, 04 Feb 2025) EndedAt: 2025-02-04 16:17:45 -0500 (Tue, 04 Feb 2025) EllapsedTime: 34.3 seconds RetCode: 0 Status: OK PackageFile: epivizr_2.37.0.tar.gz PackageFileSize: 1.197 MiB