Package: epivizr Version: 2.37.0 Command: /home/biocbuild/R/R/bin/R CMD INSTALL epivizr StartedAt: 2025-01-29 20:04:57 -0000 (Wed, 29 Jan 2025) EndedAt: 2025-01-29 20:06:00 -0000 (Wed, 29 Jan 2025) EllapsedTime: 62.8 seconds RetCode: 0 Status: OK