Package: epivizr Version: 2.37.0 Command: rm -rf epivizr.buildbin-libdir && mkdir epivizr.buildbin-libdir && /Users/biocbuild/BBS/utils/build-universal.sh epivizr_2.37.0.tar.gz /Library/Frameworks/R.framework/Resources/bin/R epivizr.buildbin-libdir StartedAt: 2025-02-13 00:35:44 -0500 (Thu, 13 Feb 2025) EndedAt: 2025-02-13 00:36:46 -0500 (Thu, 13 Feb 2025) EllapsedTime: 61.5 seconds RetCode: 0 Status: OK PackageFile: epivizr_2.37.0.tgz PackageFileSize: 2 MiB