Package: epivizr Version: 2.37.0 Command: /Library/Frameworks/R.framework/Resources/bin/R CMD check --install=check:epivizr.install-out.txt --library=/Library/Frameworks/R.framework/Resources/library --no-vignettes --timings epivizr_2.37.0.tar.gz StartedAt: 2025-02-09 20:34:01 -0500 (Sun, 09 Feb 2025) EndedAt: 2025-02-09 20:40:33 -0500 (Sun, 09 Feb 2025) EllapsedTime: 391.9 seconds RetCode: 0 Status: OK CheckDir: epivizr.Rcheck Warnings: 0