Package: epivizr Version: 2.37.0 Command: /home/biocbuild/bbs-3.21-bioc/R/bin/R CMD build --keep-empty-dirs --no-resave-data epivizr StartedAt: 2025-02-04 17:08:12 -0500 (Tue, 04 Feb 2025) EndedAt: 2025-02-04 17:09:23 -0500 (Tue, 04 Feb 2025) EllapsedTime: 71.1 seconds RetCode: 0 Status: OK PackageFile: epivizr_2.37.0.tar.gz PackageFileSize: 1.181 MiB