Package: epivizr Version: 2.37.0 Command: /home/biocbuild/bbs-3.21-bioc/R/bin/R CMD INSTALL epivizr StartedAt: 2025-02-09 15:44:01 -0500 (Sun, 09 Feb 2025) EndedAt: 2025-02-09 15:44:46 -0500 (Sun, 09 Feb 2025) EllapsedTime: 45.0 seconds RetCode: 0 Status: OK