Package: epivizrChart Version: 1.29.0 Command: /Library/Frameworks/R.framework/Resources/bin/R CMD build --keep-empty-dirs --no-resave-data epivizrChart StartedAt: 2025-02-12 16:16:47 -0500 (Wed, 12 Feb 2025) EndedAt: 2025-02-12 16:17:36 -0500 (Wed, 12 Feb 2025) EllapsedTime: 49.6 seconds RetCode: 0 Status: OK PackageFile: epivizrChart_1.29.0.tar.gz PackageFileSize: 5.303 MiB