Package: epivizrChart Version: 1.29.0 Command: /Library/Frameworks/R.framework/Resources/bin/R CMD check --install=check:epivizrChart.install-out.txt --library=/Library/Frameworks/R.framework/Resources/library --no-vignettes --timings epivizrChart_1.29.0.tar.gz StartedAt: 2025-02-09 19:08:18 -0500 (Sun, 09 Feb 2025) EndedAt: 2025-02-09 19:10:16 -0500 (Sun, 09 Feb 2025) EllapsedTime: 118.4 seconds RetCode: 0 Status: OK CheckDir: epivizrChart.Rcheck Warnings: 0