Package: epivizrChart Version: 1.29.0 Command: /Library/Frameworks/R.framework/Resources/bin/R CMD INSTALL epivizrChart StartedAt: 2025-02-09 15:14:25 -0500 (Sun, 09 Feb 2025) EndedAt: 2025-02-09 15:14:44 -0500 (Sun, 09 Feb 2025) EllapsedTime: 19.3 seconds RetCode: 0 Status: OK