Package: epivizrChart Version: 1.29.0 Command: /Library/Frameworks/R.framework/Resources/bin/R CMD check --install=check:epivizrChart.install-out.txt --library=/Library/Frameworks/R.framework/Resources/library --no-vignettes --timings epivizrChart_1.29.0.tar.gz StartedAt: 2025-02-12 20:22:59 -0500 (Wed, 12 Feb 2025) EndedAt: 2025-02-12 20:29:10 -0500 (Wed, 12 Feb 2025) EllapsedTime: 371.0 seconds RetCode: 0 Status: OK CheckDir: epivizrChart.Rcheck Warnings: 0