Package: epivizrChart Version: 1.29.0 Command: /home/biocbuild/bbs-3.21-bioc/R/bin/R CMD build --keep-empty-dirs --no-resave-data epivizrChart StartedAt: 2025-02-09 17:10:31 -0500 (Sun, 09 Feb 2025) EndedAt: 2025-02-09 17:12:29 -0500 (Sun, 09 Feb 2025) EllapsedTime: 118.2 seconds RetCode: 0 Status: OK PackageFile: epivizrChart_1.29.0.tar.gz PackageFileSize: 5.303 MiB