Package: epivizrChart Version: 1.29.0 Command: /home/biocbuild/bbs-3.21-bioc/R/bin/R CMD INSTALL epivizrChart StartedAt: 2025-02-09 15:42:26 -0500 (Sun, 09 Feb 2025) EndedAt: 2025-02-09 15:43:12 -0500 (Sun, 09 Feb 2025) EllapsedTime: 46.5 seconds RetCode: 0 Status: OK