Package: epivizrChart Version: 1.29.0 Command: chmod a+r epivizrChart -R && E:\biocbuild\bbs-3.21-bioc\R\bin\R.exe CMD build --keep-empty-dirs --no-resave-data epivizrChart StartedAt: 2025-02-12 18:39:19 -0500 (Wed, 12 Feb 2025) EndedAt: 2025-02-12 18:42:30 -0500 (Wed, 12 Feb 2025) EllapsedTime: 191.4 seconds RetCode: 0 Status: OK PackageFile: epivizrChart_1.29.0.tar.gz PackageFileSize: 5.304 MiB