Package: epivizrChart Version: 1.29.0 Command: E:\biocbuild\bbs-3.21-bioc\R\bin\R.exe CMD INSTALL epivizrChart StartedAt: 2025-02-09 16:31:00 -0500 (Sun, 09 Feb 2025) EndedAt: 2025-02-09 16:32:40 -0500 (Sun, 09 Feb 2025) EllapsedTime: 99.2 seconds RetCode: 0 Status: OK