Package: epivizrData Version: 1.35.0 Maintainer: Hector Corrada Bravo MaintainerEmail: hcorrada at gmail.com git_url: https://git.bioconductor.org/packages/epivizrData git_branch: devel git_last_commit: 0d48393 git_last_commit_date: 2024-10-29 10:10:40 -0500 (Tue, 29 Oct 2024)