Package: epivizrData Version: 1.35.0 Command: /home/biocbuild/R/R/bin/R CMD build --keep-empty-dirs --no-resave-data epivizrData StartedAt: 2025-01-28 22:45:57 -0000 (Tue, 28 Jan 2025) EndedAt: 2025-01-28 22:47:17 -0000 (Tue, 28 Jan 2025) EllapsedTime: 80.0 seconds RetCode: 0 Status: OK PackageFile: epivizrData_1.35.0.tar.gz PackageFileSize: 269.9 KiB