Package: epivizrData Version: 1.35.0 Command: /home/biocbuild/R/R/bin/R CMD INSTALL epivizrData StartedAt: 2025-01-29 20:03:57 -0000 (Wed, 29 Jan 2025) EndedAt: 2025-01-29 20:04:57 -0000 (Wed, 29 Jan 2025) EllapsedTime: 59.9 seconds RetCode: 0 Status: OK